BEGIN:VCALENDAR
VERSION:2.0
PRODID:-//AudioTheme 2.3.7
BEGIN:VEVENT
UID:urn:uuid:b3bc1b15-2c3e-467d-b0fa-febe8dacb566
URL:https://jackotheclock.com/shows/the-night-light/
DTSTART;TZID=GMT:20170306T040000
SUMMARY:The Night Light
DESCRIPTION:w/Mark Clifford's Dirty Snacks\, Reconnaissance Fly
LOCATION:The Night Light\, 311 Broadway\, Oakland\, CA\, United States
END:VEVENT
END:VCALENDAR
