BEGIN:VCALENDAR
VERSION:2.0
PRODID:-//AudioTheme 2.3.7
BEGIN:VEVENT
UID:urn:uuid:22e9fa5a-a9b3-4dee-8283-2a04ca1e2568
URL:https://jackotheclock.com/shows/the-golden-bull/
DTSTART;TZID=GMT:20190602T040000
SUMMARY:The Golden Bull
DESCRIPTION:w/Inner Ear Brigade\, Mercury Tree
LOCATION:The Golden Bull\, 412 14th St.\, Oakland\, CA\, United States\, 94612
END:VEVENT
END:VCALENDAR
